BEGIN:VCALENDAR
PRODID:-//hacksw/handcal//NONSGML v1.0//EN
VERSION:2.0
METHOD:PUBLISH
BEGIN:VEVENT
DTSTART:20190228T121500Z
DTEND:20190228T141500Z
LOCATION:Red Lion Hotel North Baltimore, 2004 Greenspring Dr., Timonium, MD 21093
UID:1632120190228T121500ZAnnual Economic Update:  To All the Economists I've Loved
DTSTAMP:20260425T175353Z
DESCRIPTION:\nSponsored by Maller Wealth Advisors\n \nABOUT THE PROGRAM:  This presentation supplies detail discussions regarding, global, national, and regional economic performance using the most current data available.  Special attention is devoted to certain aspects of economic life, including the performance of financial, labor, real estate, and construction markets.\n \nABOUT THE SPEAKER:  Anirban Basu is Chairman & CEO of Sage Policy Group, Inc., an economic and policy consulting firm headquartered in Baltimore, Maryland with offices in Pennsylvania and Cambodia.  The firm provides strategic analytical services to energy suppliers, law firms, medical systems, government agencies, and real estate developers among others.\n 7:15 a.m. Coffee & Networking 7:30 Breakfast 8:00-9:00 – Dr. Basu’s Presentation \nTwo Meeting Requirement – This the fifth program of the BEPC 2018-2019 year.  To maintain membership in the Baltimore Estate Planning Council, active members are required to attend at least two educational meetings annually. Reservations must be pre-paid. \n \nCancellation Policy – Reservations must be canceled in writing or by e-mail and received no later than Monday February 25, 2019.\n \nAEP®, CAP®, CFP®, and Insurance CE have been applied for.\n \n \n
SUMMARY:Annual Economic Update:  To All the Economists I've Loved - Baltimore Estate Planning Council 
PRIORITY:3
BEGIN:VALARM
TRIGGER:PT18H
ACTION:DISPLAY
DESCRIPTION:Reminder
END:VALARM
END:VEVENT
END:VCALENDAR