BEGIN:VCALENDAR
PRODID:-//hacksw/handcal//NONSGML v1.0//EN
VERSION:2.0
METHOD:PUBLISH
BEGIN:VEVENT
DTSTART:20181030T160000Z
DTEND:20181030T060000Z
LOCATION:THE ASSOCIATED: Jewish Community Federation of Baltimore, 101 W. Mt. Royal Ave., Baltimore, MD 21201
UID:1701220181030T160000ZEmerging Planners Networking Luncheon - The Multidisciplinary Team Approach to Estate Planning
DTSTAMP:20260425T175040Z
DESCRIPTION:\nProgram: An esteemed group of past Baltimore Estate Planning Council Presidents assembled to share their experience and insight on how to approach comprehensive estate planning using a collaborative approach. Representing the various disciplines involved in the “Team Approach” of estate planning, we have legal, accounting, insurance, financial, philanthropic, and investment professionals. \n \nPanel:\n David Goldner, CPA, CFP®, CVA, Managing Partner,  Gross, Mendelsohn & Associates, P.A David C. Dembert, Esq., AEP®, Principal of Jacobs & Dembert P.A. Law Offices Michael I.Friedman, J.D. CAP®, Senior Vice President, Philanthropic Planning and Service, The Associated Steve Thaler, MBA, CLU®, AEP®, Senior VP/ Client Advocate, Willis of Maryland Lawrence J.  Macklin, Esq., CPA, AEP®, U.S. Trust, Bank of America Private Wealth Management \nAccording to NAEPC: \n“The ultimate purpose for collaboration is to tap into and harness the collective wisdom of the group.”\n \nJoin the Emerging Planners of the BEPC for this luncheon program.   We welcome estate planning professionals practicing 10 years or fewer to join us for an afternoon of networking with like-minded professionals. \n \nPARKING:  Parking is complimentary in the Cathedral Street Garage located adjacent to The Associated building at 1311 Cathedral St, on the corner of Cathedral Street and Preston Street. Remember to take your ticket into the building to obtain validation from the front desk.\n \nOpen to Members and Non-Members. Registration is $15.00 per person. \n
SUMMARY:Emerging Planners Networking Luncheon - The Multidisciplinary Team Approach to Estate Planning - Baltimore Estate Planning Council 
PRIORITY:3
BEGIN:VALARM
TRIGGER:PT18H
ACTION:DISPLAY
DESCRIPTION:Reminder
END:VALARM
END:VEVENT
END:VCALENDAR