BEGIN:VCALENDAR
PRODID:-//hacksw/handcal//NONSGML v1.0//EN
VERSION:2.0
METHOD:PUBLISH
BEGIN:VEVENT
DTSTART:20190109T200000Z
DTEND:20190109T213000Z
LOCATION:US Trust, Bank of America PWM, 100 S. Charles St., 9th Floor, Baltimore, MD 21201
UID:1740820190109T200000ZIncorporating Long-Term Care, Longevity Annuities,  and Investment Risk Into A Retirement Income Plan
DTSTAMP:20260425T174953Z
DESCRIPTION:\nIncorporating Long-Term Care, Longevity Annuities, and Investment Risk Into A Retirement Income Plan\n \nWednesday, January 9, 2019\n 3:00pm - 4:00pm with discussion to follow\n Speaker: Jamie P. Hopkins, JD, MBA, LLM, CFP®\n \nRetirement income planning can be like trying to hit a moving target in the wind. Longevity risk, long-term care needs and investment volatility all make income planning challenging. This intermediate presentation will dive into best practices around building a retirement income plan that addresses these risks. \n \nJamie P. Hopkins is Director of Retirement Research at Carson Group and the co-creator of the Retirement Income Certified Professional (RICP) designation at The American College. He is also the author of Rewirement: Rewiring The Way You Think About Retirement Planning. Jamie is also a contributor to Forbes, InvestmentNews, and Kiplinger on retirement income planning. \n \nPlease register by Noon, tomorrow, January 9th.\n \n \n
SUMMARY:Incorporating Long-Term Care, Longevity Annuities,  and Investment Risk Into A Retirement Income Plan - Baltimore Estate Planning Council 
PRIORITY:3
BEGIN:VALARM
TRIGGER:PT18H
ACTION:DISPLAY
DESCRIPTION:Reminder
END:VALARM
END:VEVENT
END:VCALENDAR