BEGIN:VCALENDAR
PRODID:-//hacksw/handcal//NONSGML v1.0//EN
VERSION:2.0
METHOD:PUBLISH
BEGIN:VEVENT
DTSTART:20190612T190000Z
DTEND:20190612T200000Z
LOCATION:100 S. Charles Street, 9th Floor, Baltimore, MD 21201
UID:1788720190612T190000ZNAEPC Webinar Viewing Party: Leaving a Lasting Legacy
DTSTAMP:20260425T180143Z
DESCRIPTION:\nLarry Macklin, BEPC Past President and Board member of the National Association of Estate Planners and Councils (NAEPC) will be hosting a VIEWING PARTY at his office for those who want to come and collectively watch the NAEPC June 12th Webinar using the group registration BEPC has as a Council of Excellence. There is NO cost to attend - simply register and head over to Larry's office to enjoy the webinar with your peers!\n \nRSVPs are due by close of business on Monday, June 10th, so that names can be provided to building security.\n  \nDate: Wednesday, June 12, 2019 \nTime: 3:00pm - 4:00pm ET \nLocation: 100 S. Charles Street, 9th Floor, Baltimore, MD 21201\nSpeaker: Eric Weiner, PhD (via Webinar)\n \nRather than simply transferring an inheritance to heirs, some people have a vision of the future to share for generations to come. Advisors play a key role in helping clients deepen a family’s values, philanthropic commitments, and to help keep the family connected. Learn to leave a legacy that matters. \n \nDr. Weiner helps families have values-based conversations about money and inheritance as part of their tax and legal estate planning strategies. His passion is to help families define a legacy that preserves both physical assets and family relationships over time. His award-winning book “Words from the HEART: A Practical Guide to Writing an Ethical Will,” is a tool that assists families in defining what matters most in the inheritance preparation process.   \n
SUMMARY:NAEPC Webinar Viewing Party: Leaving a Lasting Legacy - Baltimore Estate Planning Council 
PRIORITY:3
BEGIN:VALARM
TRIGGER:PT18H
ACTION:DISPLAY
DESCRIPTION:Reminder
END:VALARM
END:VEVENT
END:VCALENDAR