BEGIN:VCALENDAR
PRODID:-//hacksw/handcal//NONSGML v1.0//EN
VERSION:2.0
METHOD:PUBLISH
BEGIN:VEVENT
DTSTART:20190911T190000Z
DTEND:20190911T200000Z
LOCATION:100 S. Charles Street, 9th Floor, Baltimore, MD 21201
UID:1857620190911T190000ZNAEPC Webinar Viewing Party: Growing Your Firm’s Revenue using the Non-Grantor Trust State Income Tax Chart
DTSTAMP:20260425T175325Z
DESCRIPTION:\nLAST MINUTE DEAL...\n \nLarry Macklin, BEPC Past President and Board member of the National Association of Estate Planners and Councils (NAEPC) will be hosting a VIEWING PARTY at his office for those who want to come and collectively watch the NAEPC September 11th Webinar using the BEPC group registration. There is NO cost to attend - simply register to attend the event and head over to Larry's office to enjoy the webinar with your peers!\n \nRSVPs are due by close of business on Tuesday, September 10th, so that names can be provided to building security.\n \n****************************************************************************************************************\n This program illustrates a number of different opportunities to save state income tax using different non-grantor trust options.  The presenter will show the attendees how to use a special two-page 50-state non-grantor trust state income tax chart in order to create opportunities to save state income tax.\n \nSteven J. Oshins, Esq., AEP® (Distinguished) is a member of the Law Offices of Oshins & Associates in Las Vegas, Nevada.  He practices in the areas of estate tax planning, income tax planning and asset protection.  He was inducted into the NAEPC Estate Planning Hall of Fame in 2011.\n
SUMMARY:NAEPC Webinar Viewing Party: Growing Your Firm’s Revenue using the Non-Grantor Trust State Income Tax Chart - Baltimore Estate Planning Council 
PRIORITY:3
BEGIN:VALARM
TRIGGER:PT18H
ACTION:DISPLAY
DESCRIPTION:Reminder
END:VALARM
END:VEVENT
END:VCALENDAR