BEGIN:VCALENDAR
PRODID:-//hacksw/handcal//NONSGML v1.0//EN
VERSION:2.0
METHOD:PUBLISH
BEGIN:VEVENT
DTSTART:20191016T153000Z
DTEND:20191016T170000Z
LOCATION:THE LOYOLA GRADUATE CENTER: 2034 Greenspring Drive, Lutherville-Timonium, MD 21093
UID:1861720191016T153000ZBEPC Emerging Planners' Networking Luncheon – Revolutionize HOW You Work for Maximum Efficiency and Better, Faster Results
DTSTAMP:20260425T175928Z
DESCRIPTION:\n\nJoin the Emerging Planners of the BEPC for this luncheon program. We welcome estate planning professionals practicing 10 years or fewer to join us for a networking luncheon with like-minded professionals. Registration and networking will begin at 11:30 a.m. and the program will run from 12:00 p.m. to 1:00 p.m.\n \nFind out how to work most efficiently, effectively and productively with tasks, time and email and learn why it is so ESSENTIAL to use a workday strategy that WORKS so you can accelerate achievement and make more meaningful, powerful progress on the projects and initiatives that matter the most to you and to the future of your company.\n \nWhen you attend this presentation, you will learn…\n What you don’t know about how you’re working and what it’s costing you The most important driver of productivity, progress and achievement The two most effective ways to gain more time in your day Why the email flag is failing you and what to do instead How to gain more clarity, confidence and control in your workday \nPARKING: Parking is complimentary at The Loyola Graduate Center\nOpen to Members and Non-Members\nSpace is limited to 50 (first come, first serve) - REGISTER TODAY!\n \n\nABOUT THE SPEAKER: Leslie Shreve\n \nLeslie Shreve is a workload management and productivity expert and the Founder and CEO of Productive Day®.  Leslie is also the creator of Taskology® The Science of Getting Things Done, a unique, proprietary system that shows executives, managers, professionals and teams how to increase efficiency, effectiveness and productivity; accelerate achievement; and make more meaningful, powerful progress on the projects and initiatives that matter the most to them and to the future of their company.\n \nFor more than 13 years, Leslie worked in corporate office environments before establishing Productive Day in 2003. Since then, Leslie has taught hundreds of clients from more than forty different industries how to increase efficiency and improve productivity by up to 300% while reducing stress by up to 90%.\n \nTaskology is a workload management system that’s simple, logical and easy-to-use. Clients previously frustrated or overwhelmed with too much to do, too many emails and not enough time now claim to have a secret—a new system they can use to take charge of their workday; gain more clarity, confidence and control; and get things done faster and easier—and with a LOT less stress.\n \nLeslie has been interviewed on TV and radio and has written tips and articles for the Baltimore Business Journal and Smart CEO Magazine. Leslie’s advice has been featured or quoted in Fast Company, the Huffington Post, The Globe and Mail and Business Management Daily. Leslie also published her first book in 2016, a business fiction called “Taskology: How to Unleash the Power of Your Most Productive Workday.”\n
SUMMARY:BEPC Emerging Planners' Networking Luncheon – Revolutionize HOW You Work for Maximum Efficiency and Better, Faster Results - Baltimore Estate Planning Council 
PRIORITY:3
BEGIN:VALARM
TRIGGER:PT18H
ACTION:DISPLAY
DESCRIPTION:Reminder
END:VALARM
END:VEVENT
END:VCALENDAR