BEGIN:VCALENDAR
PRODID:-//hacksw/handcal//NONSGML v1.0//EN
VERSION:2.0
METHOD:PUBLISH
BEGIN:VEVENT
DTSTART:20191016T190000Z
DTEND:20191016T200000Z
LOCATION:100 S. Charles Street, 9th Floor, Baltimore, MD 21201
UID:1874520191016T190000ZNAEPC Webinar Viewing Party: Elder Law and Special Needs Planning
DTSTAMP:20260425T175137Z
DESCRIPTION:\nWANT A SNEAK PEEK BEFORE THE BEPC 10/29 BREAKFAST PROGRAM?\n \nThis intermediate level program will provide an update on elder law and special needs planning, including how to draft a plan that works and takes into account future incapacity of the client and beneficiaries. Use of trusts will be discussed, as well as appropriate trust distribution standards.\n \nLarry Macklin, BEPC Past President and Board member of the National Association of Estate Planners and Councils (NAEPC) will be hosting a VIEWING PARTY at his office for those who want to come and collectively watch the NAEPC October 16th Webinar using the BEPC group registration. There is NO cost to attend - simply register to attend the event and head over to Larry's office to enjoy the webinar with your peers!\n \nRSVPs are due by close of business on Tuesday, October 15th, so that names can be provided to building security.\n  \n
SUMMARY:NAEPC Webinar Viewing Party: Elder Law and Special Needs Planning - Baltimore Estate Planning Council 
PRIORITY:3
BEGIN:VALARM
TRIGGER:PT18H
ACTION:DISPLAY
DESCRIPTION:Reminder
END:VALARM
END:VEVENT
END:VCALENDAR