BEGIN:VCALENDAR
PRODID:-//hacksw/handcal//NONSGML v1.0//EN
VERSION:2.0
METHOD:PUBLISH
BEGIN:VEVENT
DTSTART:20200108T200000Z
DTEND:20200108T210000Z
LOCATION:225 Schilling Circle, Suite 250, Hunt Valley, MD 21031
UID:1907420200108T200000ZNAEPC Webinar Viewing Party: The NEW Reverse Mortgage - 5 Ways Housing Wealth Is Changing the Estate Planning Conversation
DTSTAMP:20260425T175927Z
DESCRIPTION:\nAbout the Program\n \nWith the current retirement crisis, advisors need every viable resource to help their clients. Reverse mortgages have become one such resource. Much has changed with the program's restructuring, and estate planners have discovered five surprising ways Housing Wealth strategies are reshaping retirement outcomes.\n \nAbout the Speaker \n \nDon Graves is the president of the Housing Wealth Institute, best-selling author and an adjunct instructor of retirement income at the American College of Financial Services. He is considered one of the nation's leading educators on incorporating housing wealth into retirement income planning and has been quoted in Forbes Magazine, featured on PBS-sponsored shows, and recognized as one of the American College's 11 Retirement Income Alumni you need to read.\n \nContinuing Education\n \nContinuing education credit is available at most webinars for Accredited Estate Planner® designees. In addition, a general certificate of completion will be made available for those professionals who feel the program satisfies their continuing education requirements and are able to self-file. It is the responsibility of the attendee to determine whether their state, discipline, or designation will allow one to self-file for a distance-learning program. Please contact [webinars@naepc.org](mailto:webinars@naepc.org?subject=Question%20With%20Regard%20to%20CE%20Policy%20for%20Webinars) prior to attending your first program if you have any questions with regard to the availability of credit. \n
SUMMARY:NAEPC Webinar Viewing Party: The NEW Reverse Mortgage - 5 Ways Housing Wealth Is Changing the Estate Planning Conversation - Baltimore Estate Planning Council 
PRIORITY:3
BEGIN:VALARM
TRIGGER:PT18H
ACTION:DISPLAY
DESCRIPTION:Reminder
END:VALARM
END:VEVENT
END:VCALENDAR