BEGIN:VCALENDAR
PRODID:-//hacksw/handcal//NONSGML v1.0//EN
VERSION:2.0
METHOD:PUBLISH
BEGIN:VEVENT
DTSTART:20201209T200000Z
DTEND:20201209T210000Z
LOCATION:Zoom - link will be emailed to registered attendees
UID:1908520201209T200000ZNAEPC Webinar Viewing Party: Virtual Shift: How to Work Online with Meetings, Webinars and More
DTSTAMP:20260425T172014Z
DESCRIPTION:\nAbout the Program\n \nIn order to help Business Advisors, Dean DeLisle has assembled this informative webinar to show you the best practices to help stay connected and engaged with your teams and audiences going forward. We are in a new virtual world and now need to adjust our business and work practices. Dean will show you techniques using examples from Zoom, GotoWebinar, Microsoft Teams, and other collaborative software. In this period of adjustment, it is essential not only to learn to how to work remotely, but also stay connected with each other. We will show methods relating to meetings, webinars, building and sharing content and even having some fun in the process.  This will be the new normal for a while, and in these times, we must stay connected and help each other to adjust. Many of our clients are experiencing an increase in business services by making a few simple modifications and learning some new technology.\n \nAbout the Speaker\n \nAs Founder and CEO of Forward Progress, Dean leads his core team to provide digital thought leadership marketing solutions, serving over 2,000 corporate clients over the past 15 years. In 2012 Dean created and released a Social Influencer Development Platform known as Social Jack. Dean is host of his own Podcast, Influence Factory, where he enjoys exclusive interviews with leading business influencers. His recent book, [FIRST, The Street Guide to Digital Business Influence](https://naepc.us4.list-manage.com/track/click?u=da891fb4a8a33c9776e2c8b17&id=8f8e8bfcab&e=4cbf3e3e80) gives the reader proven essential steps and tools to develop thought leadership and recognition in their industry.\n \nContinuing Education\n \nContinuing education credit is available at most webinars for Accredited Estate Planner® designees. In addition, a general certificate of completion will be made available for those professionals who feel the program satisfies their continuing education requirements and are able to self-file. It is the responsibility of the attendee to determine whether their state, discipline, or designation will allow one to self-file for a distance-learning program. Please contact [webinars@naepc.org](mailto:webinars@naepc.org?subject=Question%20With%20Regard%20to%20CE%20Policy%20for%20Webinars) prior to attending your first program if you have any questions with regard to the availabililty of credit. \n \nZoom Link\nhttps://us02web.zoom.us/j/83626926052?pwd=bG9WWFByTzZtRzlOWTd5czhRck5sUT09\n \nMeeting ID: 836 2692 6052\n Passcode: 855451\n \nDial by your location\n         +1 301 715 8592 US (Washington D.C)\n         +1 312 626 6799 US (Chicago)\n         +1 929 205 6099 US (New York)\n         +1 669 900 6833 US (San Jose)\n         +1 253 215 8782 US (Tacoma)\n         +1 346 248 7799 US (Houston)\n Meeting ID: 836 2692 6052\n Passcode: 855451\n
SUMMARY:NAEPC Webinar Viewing Party: Virtual Shift: How to Work Online with Meetings, Webinars and More - Baltimore Estate Planning Council 
PRIORITY:3
BEGIN:VALARM
TRIGGER:PT18H
ACTION:DISPLAY
DESCRIPTION:Reminder
END:VALARM
END:VEVENT
END:VCALENDAR