BEGIN:VCALENDAR
PRODID:-//hacksw/handcal//NONSGML v1.0//EN
VERSION:2.0
METHOD:PUBLISH
BEGIN:VEVENT
DTSTART:20200129T213000Z
DTEND:20200129T230000Z
LOCATION:HWK Law Group; 1447 York Road, Suite 800, Lutherville, MD 21093
UID:1914620200129T213000ZEmerging Planners SECURE Act Study Group (SOLD OUT!)
DTSTAMP:20260425T175040Z
DESCRIPTION:\nSOLD OUT :)\n \nRegistration is full.\n \n \n \nEmerging Planners SECURE Act Study Group\n \n \n \nDoes the SECURE Act have your head spinning? If so, please join us for an exclusive Emerging Planners study group. Seating is limited to 14 people.\n \n \n \nIn order to sign up, you must submit a question or client situation you would like to discuss. You may also submit special information you would like to share, such as a planning strategy or a great resource you have found helpful.\n \n \n \nWe may walk away with more questions than answers, but you will walk away with a little more than you started.   \n \n \n \nDate: January 29th (snow date February 5th)  \n
SUMMARY:Emerging Planners SECURE Act Study Group (SOLD OUT!) - Baltimore Estate Planning Council 
PRIORITY:3
BEGIN:VALARM
TRIGGER:PT18H
ACTION:DISPLAY
DESCRIPTION:Reminder
END:VALARM
END:VEVENT
END:VCALENDAR