BEGIN:VCALENDAR
PRODID:-//hacksw/handcal//NONSGML v1.0//EN
VERSION:2.0
METHOD:PUBLISH
BEGIN:VEVENT
DTSTART:20200513T190000Z
DTEND:20200513T200000Z
LOCATION:ZOOM - please see event information
UID:1941120200513T190000ZNAEPC Webinar ZOOM Party: Collaboration Matters - Working Together to Produce Extraordinary Results
DTSTAMP:20260425T175526Z
DESCRIPTION:\nAbout the Program\n \nWhen professionals operate in silos, the quality of advice and planning is subpar. As tax laws remain uncertain, planning has become more complicated, solutions more complex, and as the marketplace grows more advanced, the call for a SuperAdvisor (team of experts) for the SuperClient seems essential and irreversible. A team of experts provides checks and balances due to the overlapping knowledge of the participants, accepts 100% responsibility for the well-being of the client, and tenaciously makes sure there is flawless implementation of their recommendations.\n \nAttend this all-level presentation to gather an understanding of how best to work in a team environment and to learn strategies to take these tips back to your own practice.\n \nAbout the Speaker\n \nAlbert E. Gibbons, CLU®, ChFC®, AEP® (Distinguished) specializes in estate planning and life insurance for high net worth individuals, high-level corporate executives, and successful entrepreneurs. He works closely with professional tax advisors (attorneys, accountants, and trust officers) designing and implementing sophisticated life insurance strategies to help solve their clients’ unique estate planning needs. Mr. Gibbons, a long-standing [Accredited Estate Planner](https://naepc.us4.list-manage.com/track/click?u=da891fb4a8a33c9776e2c8b17&id=9126c95da5&e=4cbf3e3e80)® designee, was inducted into the [NAEPC Estate Planning Hall of Fame](https://naepc.us4.list-manage.com/track/click?u=da891fb4a8a33c9776e2c8b17&id=2122baccdc&e=4cbf3e3e80)® in 2013.\n \nContinuing Education\n \nContinuing education credit is available at most webinars for Accredited Estate Planner® designees. In addition, a general certificate of completion will be made available for those professionals who feel the program satisfies their continuing education requirements and are able to self-file. It is the responsibility of the attendee to determine whether their state, discipline, or designation will allow one to self-file for a distance-learning program. Please contact [webinars@naepc.org](mailto:webinars@naepc.org?subject=Question%20With%20Regard%20to%20CE%20Policy%20for%20Webinars) prior to attending your first program if you have any questions with regard to the availability of credit. \n \nJoin Zoom Meeting\nhttps://us04web.zoom.us/j/76773094278?pwd=eFBmTVQ4RlB5TWswSVFrbXN4eFgvZz09\n \nMeeting ID: 767 7309 4278\n Password: 7NXgUj\n One tap mobile\n +13017158592,,76773094278#,,1#,430402# US (Germantown)\n +13126266799,,76773094278#,,1#,430402# US (Chicago)\n \nDial by your location\n         +1 301 715 8592 US (Germantown)\n         +1 312 626 6799 US (Chicago)\n         +1 929 205 6099 US (New York)\n         +1 253 215 8782 US (Tacoma)\n         +1 346 248 7799 US (Houston)\n         +1 669 900 6833 US (San Jose)\n Meeting ID: 767 7309 4278\n Password: 430402\n Find your local number: https://us04web.zoom.us/u/fbxfm9VR2\n
SUMMARY:NAEPC Webinar ZOOM Party: Collaboration Matters - Working Together to Produce Extraordinary Results - Baltimore Estate Planning Council 
PRIORITY:3
BEGIN:VALARM
TRIGGER:PT18H
ACTION:DISPLAY
DESCRIPTION:Reminder
END:VALARM
END:VEVENT
END:VCALENDAR