BEGIN:VCALENDAR
PRODID:-//hacksw/handcal//NONSGML v1.0//EN
VERSION:2.0
METHOD:PUBLISH
BEGIN:VEVENT
DTSTART:20201029T223000Z
DTEND:20201029T233000Z
LOCATION:Zoom - registered attendees will receive an email with the attendee link
UID:2017020201029T223000ZBEPC Emerging Planners Fall Networking Event
DTSTAMP:20260425T174826Z
DESCRIPTION:\nSponsored by MAM CPA, LLC\n \nJoin the Baltimore Estate Planning Council Emerging Planners for an hour-long virtual Fall Networking Event on Thursday, October 29th at 6:30pm consisting of beer tasting with Inverness to include of a brief talk about the brewery and description of beers, a trivia game, and networking breakout rooms!\n \nRegistered attendees will either be delivered (if you are within a 15-mile radius of Greenspring Station) or can pick up a 4-pack of Inverness beer from a central location (TBD).\n \nThanks to the generosity of the BEPC Emerging Planners' Annual Sponsor, MAM CPA, LLC, there will be a prize for the 1st place trivia game winner.\n \nRegistered attendees will receive an email with the Zoom attendee link a few days prior to the event.\n \nREGISTRATION CLOSED.\n \n \n
SUMMARY:BEPC Emerging Planners Fall Networking Event - Baltimore Estate Planning Council 
PRIORITY:3
BEGIN:VALARM
TRIGGER:PT18H
ACTION:DISPLAY
DESCRIPTION:Reminder
END:VALARM
END:VEVENT
END:VCALENDAR