BEGIN:VCALENDAR
PRODID:-//hacksw/handcal//NONSGML v1.0//EN
VERSION:2.0
METHOD:PUBLISH
BEGIN:VEVENT
DTSTART:20210303T170000Z
DTEND:20210303T180000Z
LOCATION:Zoom - Link will be sent to registered attendees
UID:2066220210303T170000ZEmerging Planners "Estate Planning for Young Adults" Study Group
DTSTAMP:20260425T173444Z
DESCRIPTION:\nSponsored by MAM CPA, LLC\n \nEmerging Planners "Estate Planning for Young Adults" Study Group\n \n \n \nPlease join us on March 3rd for a collaborative informative program that will cover everything from estate planning documents to financial planning to life insurance specifically for young adults.\n \n \n \nUpon registration, please submit a question and/or topic that you would like to discuss. \n
SUMMARY:Emerging Planners "Estate Planning for Young Adults" Study Group - Baltimore Estate Planning Council 
PRIORITY:3
BEGIN:VALARM
TRIGGER:PT18H
ACTION:DISPLAY
DESCRIPTION:Reminder
END:VALARM
END:VEVENT
END:VCALENDAR