BEGIN:VCALENDAR
PRODID:-//hacksw/handcal//NONSGML v1.0//EN
VERSION:2.0
METHOD:PUBLISH
BEGIN:VEVENT
DTSTART:20210610T200000Z
DTEND:20210610T210000Z
LOCATION:Zoom
UID:2086820210610T200000ZBEPC Annual Meeting
DTSTAMP:20260425T173352Z
DESCRIPTION:\nAgenda\n \n4:00pm   Introductions and Welcome\n 4:15pm   Annual Meeting including Introduction & Election of the 2021-22 BEPC Officers & Board\n 4:30pm   “COVID Vaccines, Messenger RNA, & the Value of Basic Research" presented by Dr. Anna P. Durbin, Johns Hopkins Bloomberg School of Public Health\n 5:00pm   BEPC President and President/Elect\n Baltimore Estate Planning Council Nominations for Officers and Board Members for 2021/2022       Officers Matthew Mace President ATY Joel Simon President-Elect PP Colleen McCloskey Vice President TM Tina Lignos Secretary ATY Michael Mandish Treasurer CPA Adele Zilber Immediate Past President FA       1 Year Term - remaining     Ed Fee   ATY Lori Kirk   CPA Peter Maller   FA Ricka Neuman   CPA       2 Year Term - remaining     Norris Brodsky   FA Lee Carpenter   ATY Elizabeth Green   ATY Chester Hobbs   ATY Sean Kelly   FA Alice Young   ATY       3 Year Term     Aquanetta Betts   PP Christine Buckley   FA Donni Engelhart   VAL Andrew Hahn   FA Max Reamer   FA Helen Smith   ATY Christina Snyder   FA Jacqueline Yahr   PP \n\nZoom\nhttps://us02web.zoom.us/j/85760841944?pwd=a1JiU2p1dnJVWFZLeTczaTdlSnd2dz09\nMeeting ID: 857 6084 1944\n Passcode: 73588\n
SUMMARY:BEPC Annual Meeting - Baltimore Estate Planning Council 
PRIORITY:3
BEGIN:VALARM
TRIGGER:PT18H
ACTION:DISPLAY
DESCRIPTION:Reminder
END:VALARM
END:VEVENT
END:VCALENDAR