BEGIN:VCALENDAR
PRODID:-//hacksw/handcal//NONSGML v1.0//EN
VERSION:2.0
METHOD:PUBLISH
BEGIN:VEVENT
DTSTART:20220310T223000Z
DTEND:20220311T003000Z
LOCATION:CITY HOUSE - 6 E. Eager St., Baltimore, MD 21202
UID:2209320220310T223000ZEmerging Planners' Social
DTSTAMP:20260425T174953Z
DESCRIPTION:\nJoin the Baltimore Estate Planning Council Emerging Planners on Thursday, March 10, 2022 for a fun evening of socializing and networking.\n \nBEPC Emerging Planners and guests will enjoy a selection of libations and food catered by Café Fili while members of the BEPC Board of Directors will share information about the BEPC Mentor Program.\n \nPlease register in advance (by March 5th) so that an accurate headcount can be provided for catering.\n \nLook forward to seeing you there!\n
SUMMARY:Emerging Planners' Social - Baltimore Estate Planning Council 
PRIORITY:3
BEGIN:VALARM
TRIGGER:PT18H
ACTION:DISPLAY
DESCRIPTION:Reminder
END:VALARM
END:VEVENT
END:VCALENDAR