BEGIN:VCALENDAR
PRODID:-//hacksw/handcal//NONSGML v1.0//EN
VERSION:2.0
METHOD:PUBLISH
BEGIN:VEVENT
DTSTART:20220119T200000Z
DTEND:20220119T210000Z
LOCATION:Zoom - please see link in event information
UID:2215420220119T200000ZBEPC's NAEPC Webinar Viewing Party: After All That - Lifetime Transfers That Still Work!
DTSTAMP:20260425T175353Z
DESCRIPTION:\nAbout the Program\n \nIn this advanced program, Lou Mezzullo will discuss recent tax code changes that affect estate planning. He will offer practical suggestions as to how to deal with the changes. Join us to get expert analysis on the changing landscape in Washington.\n \nAbout the Speaker\n \nLouis A. Mezzullo is of counsel with Withers Bergman LLP, practicing principally in California.  Mezzullo received his J.D. from the University of Richmond Law School, and a B.A. and M.A. from the University of Maryland. He is a past Chair of the American College of Tax Counsel, Past President of the American College of Trust and Estate Counsel, and a past Chair of the ABA Section of Real Property, Trust and Estate Law.\n \nContinuing Education\n \nContinuing education credit is available at most webinars for Accredited Estate Planner® designees. In addition, a general certificate of completion will be made available for those professionals who feel the program satisfies their continuing education requirements and are able to self-file. It is the responsibility of the attendee to determine whether their state, discipline, or designation will allow one to self-file for a distance-learning program. Please contact [webinars@naepc.org](mailto:webinars@naepc.org?subject=Question%20With%20Regard%20to%20CE%20Policy%20for%20Webinars) prior to attending your first program if you have any questions with regard to the availabililty of credit. \n \nZoom Link\nhttps://us02web.zoom.us/j/85260611504?pwd=MXc3MEgwZnFlZ0ZoMTdQUW5xS0hHdz09\nMeeting ID: 852 6061 1504\n Passcode: 180833\n
SUMMARY:BEPC's NAEPC Webinar Viewing Party: After All That - Lifetime Transfers That Still Work! - Baltimore Estate Planning Council 
PRIORITY:3
BEGIN:VALARM
TRIGGER:PT18H
ACTION:DISPLAY
DESCRIPTION:Reminder
END:VALARM
END:VEVENT
END:VCALENDAR