BEGIN:VCALENDAR
PRODID:-//hacksw/handcal//NONSGML v1.0//EN
VERSION:2.0
METHOD:PUBLISH
BEGIN:VEVENT
DTSTART:20220511T190000Z
DTEND:20220511T200000Z
LOCATION:Zoom - please see link in event information
UID:2215820220511T190000ZBEPC's NAEPC Webinar Viewing Party: Do's and Don'ts of Estate Planning for Millennials
DTSTAMP:20260425T174624Z
DESCRIPTION:\nAbout the Program\n \nMillennials are taking over. They now make up the largest living generation in the world and the largest portion of the United States workforce.  The first half of this presentation will provide you an overview of trends in education, employment, family, and marriage for Millennials. The second half of the presentation will provide the audience a list of specific DOs and DON’Ts of interacting with Millennials regarding their property, families, trusts, and philanthropy. Along the way, participants will get some “milk” and learn certain tips regarding how to speak like and communicate with a Millennial\n \nAbout the Speaker\n \nChristine Wakeman is a shareholder in the Wealth Preservation Group at Winstead in Dallas Texas. She is fellow of the American College of Trusts and Estates Counsel (ACTEC) and is board certified in estate planning and probate law by the Texas Board of Legal Specialization. She focuses her practices on translating the complexities of the Internal Revenue Code, Texas Trust Code, and Texas Estates Code to a wide range of clients from stay-at-home parents, to teachers, to engineers, to corporate CEOs.\n \nContinuing Education\n \nContinuing education credit is available at most webinars for Accredited Estate Planner® designees. In addition, a general certificate of completion will be made available for those professionals who feel the program satisfies their continuing education requirements and are able to self-file. It is the responsibility of the attendee to determine whether their state, discipline, or designation will allow one to self-file for a distance-learning program. Please contact [webinars@naepc.org](mailto:webinars@naepc.org?subject=Question%20With%20Regard%20to%20CE%20Policy%20for%20Webinars) prior to attending your first program if you have any questions with regard to the availabililty of credit. \n \nZoom Link\nhttps://us02web.zoom.us/j/82715775458?pwd=aUkxMTQwb3ZyYThuR2lFTlpxaWZNZz09\nMeeting ID: 827 1577 5458\n Passcode: 837533\n
SUMMARY:BEPC's NAEPC Webinar Viewing Party: Do's and Don'ts of Estate Planning for Millennials - Baltimore Estate Planning Council 
PRIORITY:3
BEGIN:VALARM
TRIGGER:PT18H
ACTION:DISPLAY
DESCRIPTION:Reminder
END:VALARM
END:VEVENT
END:VCALENDAR