BEGIN:VCALENDAR
PRODID:-//hacksw/handcal//NONSGML v1.0//EN
VERSION:2.0
METHOD:PUBLISH
BEGIN:VEVENT
DTSTART:20221214T200000Z
DTEND:20221214T210000Z
LOCATION:Zoom - please see link in event information
UID:2216320221214T200000ZBEPC's NAEPC Webinar Viewing Party: Special Needs Planning: What Estate Planning Practitioners Should Know
DTSTAMP:20260425T180029Z
DESCRIPTION:\nAbout the Program\n \nElizabeth Forspan, Esq. of Forspan Klear, LLP, a New York-based Estate Planning and Elder Law firm, will discuss the various aspects of planning for those with disabilities as well as planning for clients with family members who are disabled and in receipt of government benefits.  The lecture will include a discussion of Supplemental Needs Trusts and the taxation of such trusts.  Elizabeth will also review important information regarding guardianship and conservatorship proceedings as well as planning with advance directives.\n \nAbout the Speaker\n \nElizabeth speaks throughout the United States on various aspects of Elder Care Planning, Tax Law and Estate Planning. She was the recipient of the prestigious Max Block Award for Outstanding Article in the Category of Technical Analysis, awarded by the New York State Society of Certified Public Accountants’ CPA Journal for her article “Casualty Losses for Property Damaged by Hurricane Sandy.”\n \nElizabeth has been named a Super Lawyers Rising Star in the areas of Estate Planning and Probate and Elder Law in 2016, 2017, 2018, 2019, 2020, 2021 and 2022. Elizabeth has been featured in New York Magazine, MarketWatch, and she has been quoted in the New York Times. Elizabeth’s articles and contributions have been featured in the New York Law Journal.\n \nElizabeth earned her Juris Doctor from Fordham University School of Law and her B.A. from Queens College of the City University of New York, where she graduated summa cum laude and is a member of Phi Beta Kappa.coming soon.\n \nContinuing Education\n \nContinuing education credit is available at most webinars for Accredited Estate Planner® designees. In addition, a general certificate of completion will be made available for those professionals who feel the program satisfies their continuing education requirements and are able to self-file. It is the responsibility of the attendee to determine whether their state, discipline, or designation will allow one to self-file for a distance-learning program. Please contact [webinars@naepc.org](mailto:webinars@naepc.org?subject=Question%20With%20Regard%20to%20CE%20Policy%20for%20Webinars) prior to attending your first program if you have any questions with regard to the availabililty of credit. \n \nZoom Link\nhttps://us02web.zoom.us/j/82715775458?pwd=aUkxMTQwb3ZyYThuR2lFTlpxaWZNZz09\nMeeting ID: 827 1577 5458\n Passcode: 837533\n
SUMMARY:BEPC's NAEPC Webinar Viewing Party: Special Needs Planning: What Estate Planning Practitioners Should Know - Baltimore Estate Planning Council 
PRIORITY:3
BEGIN:VALARM
TRIGGER:PT18H
ACTION:DISPLAY
DESCRIPTION:Reminder
END:VALARM
END:VEVENT
END:VCALENDAR