BEGIN:VCALENDAR
PRODID:-//hacksw/handcal//NONSGML v1.0//EN
VERSION:2.0
METHOD:PUBLISH
BEGIN:VEVENT
DTSTART:20220427T210000Z
DTEND:20220427T233000Z
LOCATION:The Mt. Washington Tavern - 5700 Newbury Street, Baltimore, Maryland 21209
UID:2250420220427T210000ZBEPC Member Social
DTSTAMP:20260425T175609Z
DESCRIPTION:\nJoin the Baltimore Estate Planning Council on Wednesday, April 27th at the Mt. Washington Tavern. Members will have the opportunity to network while enjoying beverages and hors d'oeuvres in the Pimlico Room. This is a member only event please.\n
SUMMARY:BEPC Member Social - Baltimore Estate Planning Council 
PRIORITY:3
BEGIN:VALARM
TRIGGER:PT18H
ACTION:DISPLAY
DESCRIPTION:Reminder
END:VALARM
END:VEVENT
END:VCALENDAR