BEGIN:VCALENDAR
PRODID:-//hacksw/handcal//NONSGML v1.0//EN
VERSION:2.0
METHOD:PUBLISH
BEGIN:VEVENT
DTSTART:20220928T210000Z
DTEND:20220928T230000Z
LOCATION:Union Craft Brewery - 1700 W 41st St #420, Baltimore, MD 21211
UID:2322420220928T210000ZBEPC Q1 Social
DTSTAMP:20260425T175136Z
DESCRIPTION:\nJoin the Baltimore Estate Planning Council on Wednesday, September 28, 2022 to kick off the 2022 - 2023 Council year. Members and prospective members will have the opportunity to network while enjoying a selection of Union Craft Brewing beer in the outdoor Beer Garden.\n \nPlease register in advance (by September 23, 2022) so that an accurate headcount can be provided.\n \nIf you have not yet renewed your membership, please do so using this [link](https://www.baltimoreepc.org/members/renewal).\n
SUMMARY:BEPC Q1 Social - Baltimore Estate Planning Council 
PRIORITY:3
BEGIN:VALARM
TRIGGER:PT18H
ACTION:DISPLAY
DESCRIPTION:Reminder
END:VALARM
END:VEVENT
END:VCALENDAR