BEGIN:VCALENDAR
PRODID:-//hacksw/handcal//NONSGML v1.0//EN
VERSION:2.0
METHOD:PUBLISH
BEGIN:VEVENT
DTSTART:20230209T220000Z
DTEND:20230210T000000Z
LOCATION:B.C. Brewery - 10950 Gilroy Rd Suite F, Hunt Valley, MD 21031
UID:2371220230209T220000ZBEPC Q3 Social
DTSTAMP:20260425T174938Z
DESCRIPTION:\nSponsored by: [The Kroneberger Group at RBC Wealth Management](https://us.rbcwealthmanagement.com/kronebergergroup/?utm_source=GMB&utm_medium=Yext)\n \nJoin the Baltimore Estate Planning Council on Thursday, February 9, 2022 at the B.C. Brewery. Members and prospective members will have the opportunity to network while enjoying beverages and hors d'oeuvres. Several members from the BEPC Board of Directors will also be sharing information about the AEP (Accredited Estate Planners) designation.\n \nPlease register in advance (by February 6, 2023) so that an accurate headcount can be provided.\n
SUMMARY:BEPC Q3 Social - Baltimore Estate Planning Council 
PRIORITY:3
BEGIN:VALARM
TRIGGER:PT18H
ACTION:DISPLAY
DESCRIPTION:Reminder
END:VALARM
END:VEVENT
END:VCALENDAR