BEGIN:VCALENDAR
PRODID:-//hacksw/handcal//NONSGML v1.0//EN
VERSION:2.0
METHOD:PUBLISH
BEGIN:VEVENT
DTSTART:20230712T190000Z
DTEND:20230712T200000Z
LOCATION:Zoom - please see link in event information
UID:2377420230712T190000ZBEPC's NAEPC Webinar Viewing Party: A Family Story, Cultural Competency, and Planned Giving: What Every Advisor Should Know
DTSTAMP:20260425T175526Z
DESCRIPTION:\nAbout the Program\n \nCase Study: Peter and Charlotte Cade\n Philanthropic Planning in the African American Community\n\n In this presentation, we’ll unpack a myriad of topics that advisors should be aware of, and discuss how to address them to assist the Cade family. The Cade family information touches on planning challenges and the need for creative thinking when it comes to addressing their legal, tax, financial, business, and charitable giving needs:\n As an advisor - what is the first thing you would do?  What concerns and issues do they have that you can assist them with?  Do you have ideas to help them achieve their goals today and in the future?  \nThe case study will show case philanthropic, estate and financial planning concepts – with the focus on philanthropy planning. The purpose is for you as advisors and gift planners to use this beginning case study as a tool to learn, share, and practice with others in your organizations (or anywhere!).\n\n The case study was created by Aquanetta Betts, JD, CAP®, AEP®, CFRE for the Center for Philanthropy and Social Impact, The American College of Financial Services.\n \nAbout the Speaker\n \nAquanetta Betts, JD, CAP ®, AEP ®, CFRE is the Director of Planned Giving at George Mason University. Prior to joining George Mason University, she was the Senior Executive Director of Planned Giving at World Vision (Eastern U.S.). Before her roles within organizations, Aquanetta worked for more than a decade as an estate planning attorney in the District of Columbia and Maryland. She is the President of the Chesapeake Planned Giving Council, and serves on the board of the Baltimore Estate Planning Council. She also serves in leadership positions with the National Bar Association’s Real Property, Trusts, and Estates Section, the International Association of Advisors in Philanthropy, and the National Association of Charitable Gift Planners where she is a board member, and serves as chair of the Diversity, Equity, and Inclusion Committee.\n \nContinuing Education\n \nContinuing education credit is available at most webinars for Accredited Estate Planner® designees. In addition, a general certificate of completion will be made available for those professionals who feel the program satisfies their continuing education requirements and are able to self-file. It is the responsibility of the attendee to determine whether their state, discipline, or designation will allow one to self-file for a distance-learning program. Please contact [webinars@naepc.org](mailto:webinars@naepc.org?subject=Question%20With%20Regard%20to%20CE%20Policy%20for%20Webinars) prior to attending your first program if you have any questions with regard to the availabililty of credit. \n \nZoom Link\nhttps://us02web.zoom.us/j/82715775458?pwd=aUkxMTQwb3ZyYThuR2lFTlpxaWZNZz09\nMeeting ID: 827 1577 5458\n Passcode: 837533\n
SUMMARY:BEPC's NAEPC Webinar Viewing Party: A Family Story, Cultural Competency, and Planned Giving: What Every Advisor Should Know - Baltimore Estate Planning Council 
PRIORITY:3
BEGIN:VALARM
TRIGGER:PT18H
ACTION:DISPLAY
DESCRIPTION:Reminder
END:VALARM
END:VEVENT
END:VCALENDAR