BEGIN:VCALENDAR
PRODID:-//hacksw/handcal//NONSGML v1.0//EN
VERSION:2.0
METHOD:PUBLISH
BEGIN:VEVENT
DTSTART:20231213T200000Z
DTEND:20231213T210000Z
LOCATION:Zoom - please see link in event information
UID:2377820231213T200000ZBEPC's NAEPC Webinar Viewing Party:  International Tax Concerns for High Net Worth Individuals
DTSTAMP:20260425T175618Z
DESCRIPTION:\nAbout the Program\n \nThis intermediate session will address some key issues that High Net Worth individuals with cross border assets encounter. We will speak about cross border tax implications of various asset structures including the impact of Foreign tax credits, the foreign tax credit limitation rules and the recent foreign tax credit regulations. We will also address some of the key challenges of US High Net Worth Individuals living overseas.\n \nAbout the Speaker\n \nChaya Siegfried is a Lead partner in the International Tax Services group at Withum. Chaya has extensive experience in working with High Net Worth Individuals planning and structuring their cross border assets and addressing the related compliance needs.  She is an expert in Foreign Tax Credit, Controlled Foreign Corporations, Passive Foreign Investment Companies and cross border trusts.\n \nContinuing Education\n \nContinuing education credit is available at most webinars for Accredited Estate Planner® designees. In addition, a general certificate of completion will be made available for those professionals who feel the program satisfies their continuing education requirements and are able to self-file. It is the responsibility of the attendee to determine whether their state, discipline, or designation will allow one to self-file for a distance-learning program. Please contact [webinars@naepc.org](mailto:webinars@naepc.org?subject=Question%20With%20Regard%20to%20CE%20Policy%20for%20Webinars) prior to attending your first program if you have any questions with regard to the availabililty of credit. \n \nZoom Link\nhttps://us02web.zoom.us/j/82715775458?pwd=aUkxMTQwb3ZyYThuR2lFTlpxaWZNZz09\nMeeting ID: 827 1577 5458\n Passcode: 837533\n
SUMMARY:BEPC's NAEPC Webinar Viewing Party:  International Tax Concerns for High Net Worth Individuals - Baltimore Estate Planning Council 
PRIORITY:3
BEGIN:VALARM
TRIGGER:PT18H
ACTION:DISPLAY
DESCRIPTION:Reminder
END:VALARM
END:VEVENT
END:VCALENDAR