BEGIN:VCALENDAR
PRODID:-//hacksw/handcal//NONSGML v1.0//EN
VERSION:2.0
METHOD:PUBLISH
BEGIN:VEVENT
DTSTART:20230228T170000Z
DTEND:20230228T180000Z
LOCATION:Zoom
UID:2394120230228T170000ZBEPC Heckerling Webinar via Zoom
DTSTAMP:20260425T175936Z
DESCRIPTION:\nJoin the Baltimore Estate Planning Council for a complimentary webinar highlighting the 2023 Heckerling Review!\n \nThe Heckerling Institute on Estate Planning is the nation’s leading conference for estate planning professionals, offering unparalleled educational and professional development opportunities for all members of the estate planning team. The Institute covers topics of timely interest to attorneys, trust officers, accountants, charitable giving professionals, elder law specialists, wealth management professionals, and nonprofit advisors. The 57th Heckerling Institute will provide the information and practical guidance you need to plan effectively in the currently evolving and unpredictable legal and economic environment. The Institute is also the home of the nation’s largest exhibit hall dedicated entirely to the estate planning industry.\n \nMs. Coryn Rosenstock, Director of the Estate Law Practice Group of Altman and Associates, a Division of Frost Law will be presenting the Review.\n \n\n \nThis event is specific for Council members and Emerging Planners please.\n \nJoin Zoom Meeting:\nhttps://us02web.zoom.us/j/86994414814?pwd=c2ZMdytGYS9aemMzYTUyOUpzZ2pudz09\nMeeting ID: 869 9441 4814\n Passcode: 390104\n
SUMMARY:BEPC Heckerling Webinar via Zoom - Baltimore Estate Planning Council 
PRIORITY:3
BEGIN:VALARM
TRIGGER:PT18H
ACTION:DISPLAY
DESCRIPTION:Reminder
END:VALARM
END:VEVENT
END:VCALENDAR