BEGIN:VCALENDAR
PRODID:-//hacksw/handcal//NONSGML v1.0//EN
VERSION:2.0
METHOD:PUBLISH
BEGIN:VEVENT
DTSTART:20240226T120000Z
DTEND:20240226T140000Z
LOCATION:Baltimore Country Club - Roland Park: 4712 Club Rd, Baltimore, MD 21210
UID:2439520240226T120000ZBEPC Education Program: The Good, The Bad, & The Ugly
DTSTAMP:20260425T175618Z
DESCRIPTION:\nCFP Credits Approved\n \nSponsored by [Maller Wealth Advisors](https://www.mallerwealthadvisors.com/)\n \nAGENDA\n07:00 - 08:00 Breakfast and Networking\n 08:00 - 09:00 Program\n \nABOUT THE PROGRAM: Has the Federal Reserve successfully engineered a soft landing?  Or, is the confluence of geopolitical conflict, a presidential election, rising consumer debt levels, and still high interest rates conspiring to produce economic downturn in 2024?  It is difficult to know whether 2024 will be a good year – but one thing is clear – it will be a very interesting one.  This presentation will supply in-depth analysis of major factors shaping economic outcomes, including interest rates, global conflict, wage dynamics, business confidence, and demographics.  It will then turn toward a forecast for the coming year, highlighting the major risks that economic stakeholders will likely encounter.\n \nABOUT THE SPEAKER: Anirban Basu is Chairman & CEO of Sage Policy Group, Inc., a Baltimore-based economic and policy consultancy he founded in 2004.  He serves the Chief Economist function for many organizations, including the Maryland Bankers Association and Associated Builders and Contractors.  The Baltimore Business Journal named him one of the region’s 20 most powerful business leaders in 2010.  In 2022, he entered the Daily Record newspaper’s Circle of Influence.  He is the Distinguished Economist in Residence at Goucher College, where he teaches History of Economic Thought.  He holds four graduate degrees, including a J.D. and a Ph.D.\n \nTwo Meeting Requirement: To maintain membership in the Baltimore Estate Planning Council, active members are required to attend at least two (2) IN-PERSON educational meetings annually.\n \nCancellation Policy: Reservations must be canceled in writing or by e-mail and received no later than Thursday, February 22, 2024.\n
SUMMARY:BEPC Education Program: The Good, The Bad, & The Ugly - Baltimore Estate Planning Council 
PRIORITY:3
BEGIN:VALARM
TRIGGER:PT18H
ACTION:DISPLAY
DESCRIPTION:Reminder
END:VALARM
END:VEVENT
END:VCALENDAR