BEGIN:VCALENDAR
PRODID:-//hacksw/handcal//NONSGML v1.0//EN
VERSION:2.0
METHOD:PUBLISH
BEGIN:VEVENT
DTSTART:20230914T223000Z
DTEND:20230915T020000Z
LOCATION:Oriole Park at Camden Yards - 333 W Camden St, Baltimore, MD 21201
UID:2455920230914T223000ZBEPC Social at Camden Yards
DTSTAMP:20260425T174346Z
DESCRIPTION:\nSOLD OUT!\n \nMix and mingle with fellow Council Members while cheering on the Baltimore Orioles who will be hosting the Tampa Bay Rays on September 14th, 2023.\nFood and drinks included (menu below). The game starts at 6:35pm, doors open at 5:35pm.\n \nThis is a Member, Emerging Planners, and Howard/Anne Arundel County EPC Member Event only please. If you are an Emerging Planner, please email your interest to BaltimoreEPC@gmail.com.\n \nSponsored by [First Maryland Disability Trust, Inc.](https://www.firstmdtrust.org/)\n \n\n
SUMMARY:BEPC Social at Camden Yards - Baltimore Estate Planning Council 
PRIORITY:3
BEGIN:VALARM
TRIGGER:PT18H
ACTION:DISPLAY
DESCRIPTION:Reminder
END:VALARM
END:VEVENT
END:VCALENDAR