BEGIN:VCALENDAR
PRODID:-//hacksw/handcal//NONSGML v1.0//EN
VERSION:2.0
METHOD:PUBLISH
BEGIN:VEVENT
DTSTART:20231102T210000Z
DTEND:20231102T230000Z
LOCATION:Alex Cooper Auctioneers - 908 York Rd, Towson, MD 21204
UID:2495120231102T210000ZBEPC Social at Alex Cooper Auctioneers
DTSTAMP:20260425T175324Z
DESCRIPTION:\nAlex Cooper is pleased to sponsor the Fall BEPC Member Social to be held at its Auction Showroom on Thursday, November 2, 2023 from 5 - 7pm. Council members are invited to enjoy beverages and hors d'oeuvres (catered by Attman's Delicatessen) while networking in an enchanting showroom displayed with antiques, jewelry, silver, furniture and decorative arts.\n \nAlex Cooper Auctioneers, headquartered in Towson, MD, is one of the largest auctioneers in Maryland and Washington, D.C. Founded in 1924 by Alex Cooper, the company has more than 50 employees and specializes in the sale of residential, commercial and industrial real estate as well as the sale of arts and antiques, jewelry, silver, furniture and decorative arts. The showroom also features a “Gallery of Rugs” offering one of the region’s most expansive rug collections.\n \n \n
SUMMARY:BEPC Social at Alex Cooper Auctioneers - Baltimore Estate Planning Council 
PRIORITY:3
BEGIN:VALARM
TRIGGER:PT18H
ACTION:DISPLAY
DESCRIPTION:Reminder
END:VALARM
END:VEVENT
END:VCALENDAR