BEGIN:VCALENDAR
PRODID:-//hacksw/handcal//NONSGML v1.0//EN
VERSION:2.0
METHOD:PUBLISH
BEGIN:VEVENT
DTSTART:20240313T190000Z
DTEND:20240313T200000Z
LOCATION:Zoom - please see link in event information
UID:2529420240313T190000ZBEPC's NAEPC Webinar Viewing Party: The Fiduciary Era for Life Insurance
DTSTAMP:20260425T175722Z
DESCRIPTION:\nAbout the Program\n \nThe fiduciary era for life insurance began on February 1st, 2020, with the implementation of NYS DFS Reg 187. This Clients Best Interest Regulation was constitutionally affirmed on October 20th, 2022, by the NYS Court of Appeals.  The CFP Board implemented its Fiduciary Standard related to life insurance on June 1st, 2020.\n \nThe NY Regulation and the Fiduciary Standard use fiduciary language- “care, skill, prudence, diligence of a prudent person” while evaluating “cost, performance and risk”. Ethically, the regulation applies in every state, the Standard applies in every state.\n \nWHAT ARE THE BENEFITS OF ATTENDING THIS EDUCATIONAL PRESENTATION?\n  \nReduce fiduciary risk\n   \nFurther your education and unwrap the black box of life insurance\n   \nHelp clients achieve better outcomes, further strengthen client relationships.\n   \nGenerate new HNW/UHNW client referrals\n   \nLearn how to use independent research for life insurance just like you use independent research from Morningstar for investments.\n  \nWHO SHOULD YOU BE INTERESTED IN ATTENDING?\n \nFiduciaries have told us that they are:\n \n1. Frustrated by life insurance broker conflict of interest and lack of transparency.\n \n2. Concerned that the “full story" is not available with the typical life insurance illustration analysis.\n \n3. Disappointed that they can’t figure out which policy will lead to a better outcome for their clients.\n \n4. Uncomfortable working with insurance advisors who are not fiduciaries or who do not work under a clients best interests framework.\n \nDo any of these issues listed above resonate with you?\n \nLEARNING TAKEAWAYS\n  \nLearn why the current standard of care--"side by side" life illustration comparisons are now considered “misleading”, “fundamentally inappropriate” and unreliable according to guidance from industry regulators.\n   \nLearn the information required for life insurance decision-support material that conforms to the fiduciary’s duty to exercise care, skill, prudence, and diligence.\n   \nRecognize when life insurance product recommendations are in your client’s best interest (as defined by NY Regulation 187 and generally accepted fiduciary principles including the FPA Practice Standard).\n   \nLearn how to compare life insurance illustrations to life insurance industry benchmarks- just as you compare investment performance to investment industry benchmarks such as the S&P 500 Index or the DJIA.\n  \nThe presentation is based on guidance from the UPIA, NYS DFS Reg 187, the OCC, FINRA and adjudicated lawsuits.\n \nAbout the Speaker\n \nSteven serves as a Managing Director at KB Financial and has been asked to educate members of STEP, NAEPC, PLI, NYC EPC, the ABA, the CFA Society, FI 360/Broadridge and dozens of other groups on the application of prudent investor guidelines to life insurance product selection and portfolio management.  These guidelines are based on established and proven asset management doctrine- benchmarking, analysis of cost, performance and risk, etc.. Steven helps fiduciaries guide their clients’ insurance decisions based on the only patented prudent process for life insurance selection and retention.\n \nContinuing Education\n \nContinuing education credit is available at most webinars for Accredited Estate Planner® designees. In addition, a general certificate of completion will be made available for those professionals who feel the program satisfies their continuing education requirements and are able to self-file. It is the responsibility of the attendee to determine whether their state, discipline, or designation will allow one to self-file for a distance-learning program. Please contact [webinars@naepc.org](mailto:webinars@naepc.org?subject=Question%20With%20Regard%20to%20CE%20Policy%20for%20Webinars) prior to attending your first program if you have any questions with regard to the availabililty of credit. \n \nZoom Link\nhttps://us02web.zoom.us/j/82715775458?pwd=aUkxMTQwb3ZyYThuR2lFTlpxaWZNZz09\nMeeting ID: 827 1577 5458\n Passcode: 837533\n
SUMMARY:BEPC's NAEPC Webinar Viewing Party: The Fiduciary Era for Life Insurance - Baltimore Estate Planning Council 
PRIORITY:3
BEGIN:VALARM
TRIGGER:PT18H
ACTION:DISPLAY
DESCRIPTION:Reminder
END:VALARM
END:VEVENT
END:VCALENDAR