BEGIN:VCALENDAR
PRODID:-//hacksw/handcal//NONSGML v1.0//EN
VERSION:2.0
METHOD:PUBLISH
BEGIN:VEVENT
DTSTART:20240612T190000Z
DTEND:20240612T200000Z
LOCATION:Zoom - please see link in event information
UID:2529720240612T190000ZBEPC's NAEPC Webinar Viewing Party: Deathbed Income Tax and Transfer Tax Planning Opportunities
DTSTAMP:20260425T175750Z
DESCRIPTION:\nAbout the Program\n \nAccording to Benjamin Franklin’s maxim, the two certainties in life are death and taxes.  Although the former cannot be avoided, it is possible to mitigate the latter, even when the client is on his or her deathbed.  This presentation will discuss practical techniques that can be utilized in the final days of a client’s life to take advantage of income tax and transfer tax planning opportunities despite the client’s impending mortality. Using a checklist format, the presenters will focus on the issues attorneys face in this crucial time of a client’s life and how best to prepare for death from a tax planning perspective.\n \nAbout the Speakers\n \nAejaz A. Dar is a partner at Yates Campbell LLP, which is a boutique trusts and estates law firm located in Fairfax, Virginia.  He concentrates his practice on estate planning and estate and trust administration matters.  He received his B.A. from the University of Michigan and his J.D. from NYU School of Law.\n \nEllis Pretlow is Senior Vice President and Senior Estate Administrator at Bessemer Trust. In this role, she is responsible for managing estates for which Bessemer serves as executor or personal representative.\n \nPrior to joining Bessemer, Ellis was a partner at Kaufman & Canoles, P.C. in Norfolk, VA, in the Estate, Trust, and Wealth Transfer Practice Group. She is a member of the Virginia Bar Association’s Wills, Trusts, and Estates Section and its Legislative Committee, as well as a member of the Board of Directors of the Hampton Roads Estate Planning Council. Ellis earned a J.D., magna cum laude, from the Washington and Lee University School of Law and a B.A. from the University of Virginia.\n \nContinuing Education\n \nContinuing education credit is available at most webinars for Accredited Estate Planner® designees. In addition, a general certificate of completion will be made available for those professionals who feel the program satisfies their continuing education requirements and are able to self-file. It is the responsibility of the attendee to determine whether their state, discipline, or designation will allow one to self-file for a distance-learning program. Please contact [webinars@naepc.org](mailto:webinars@naepc.org?subject=Question%20With%20Regard%20to%20CE%20Policy%20for%20Webinars) prior to attending your first program if you have any questions with regard to the availabililty of credit. \n \nZoom Link\nhttps://us02web.zoom.us/j/82715775458?pwd=aUkxMTQwb3ZyYThuR2lFTlpxaWZNZz09\nMeeting ID: 827 1577 5458\n Passcode: 837533\n
SUMMARY:BEPC's NAEPC Webinar Viewing Party: Deathbed Income Tax and Transfer Tax Planning Opportunities - Baltimore Estate Planning Council 
PRIORITY:3
BEGIN:VALARM
TRIGGER:PT18H
ACTION:DISPLAY
DESCRIPTION:Reminder
END:VALARM
END:VEVENT
END:VCALENDAR