BEGIN:VCALENDAR
PRODID:-//hacksw/handcal//NONSGML v1.0//EN
VERSION:2.0
METHOD:PUBLISH
BEGIN:VEVENT
DTSTART:20240814T190000Z
DTEND:20240814T200000Z
LOCATION:Zoom - please see link in event information
UID:2529920240814T190000ZBEPC's NAEPC Webinar Viewing Party: Special Needs and Elder Care Planning: How to Plan with an Eye Towards the Tax Considerations
DTSTAMP:20260425T180116Z
DESCRIPTION:\nAbout the Program\n \nElizabeth Forspan, Esq. will discuss the intricacies of special needs planning for family members with disabilities and how such planning must consider the various potential tax traps. She will discuss first party versus second party Supplemental/Special Needs Trusts as well as planning for Long-Term Care and Medicaid.\n \nAbout the Speaker\n \nElizabeth Forspan, Esq. is a Partner with Forspan Klear LLP, a New York-based Trusts and Estates and Elder Care Law Firm. She assists clients with wills, trusts, advance directives, estate tax planning, Medicaid and long-term care planning, adult guardianships and special needs planning. Elizabeth speaks throughout the United States to various professional organizations and has been nominated as a Super Lawyer Rising Star every year from 2016 through 2024.  She is the author of award-winning articles in professional publications and has been quoted in the New York Times. Elizabeth has appeared on MarketWatch and has written for the New York Law Journal. She is dedicated to her clients and the legal community and she serves on the boards of non-profits.\n \nContinuing Education\n \nContinuing education credit is available at most webinars for Accredited Estate Planner® designees. In addition, a general certificate of completion will be made available for those professionals who feel the program satisfies their continuing education requirements and are able to self-file. It is the responsibility of the attendee to determine whether their state, discipline, or designation will allow one to self-file for a distance-learning program. Please contact [webinars@naepc.org](mailto:webinars@naepc.org?subject=Question%20With%20Regard%20to%20CE%20Policy%20for%20Webinars) prior to attending your first program if you have any questions with regard to the availabililty of credit. \n \nZoom Link\nhttps://us02web.zoom.us/j/82715775458?pwd=aUkxMTQwb3ZyYThuR2lFTlpxaWZNZz09\nMeeting ID: 827 1577 5458\n Passcode: 837533\n
SUMMARY:BEPC's NAEPC Webinar Viewing Party: Special Needs and Elder Care Planning: How to Plan with an Eye Towards the Tax Considerations - Baltimore Estate Planning Council 
PRIORITY:3
BEGIN:VALARM
TRIGGER:PT18H
ACTION:DISPLAY
DESCRIPTION:Reminder
END:VALARM
END:VEVENT
END:VCALENDAR