BEGIN:VCALENDAR
PRODID:-//hacksw/handcal//NONSGML v1.0//EN
VERSION:2.0
METHOD:PUBLISH
BEGIN:VEVENT
DTSTART:20241009T190000Z
DTEND:20241009T200000Z
LOCATION:Zoom - please see link in event information
UID:2530120241009T190000ZBEPC's NAEPC Webinar Viewing Party: Executive Benefits Strategies Every Estate Planner Must Know
DTSTAMP:20260425T175325Z
DESCRIPTION:\nAbout the Program\n \nIncreasingly, estate planners encounter executive benefits in their practices. Whether your client is an entrepreneur seeking strategies to recruit, retain, and reward employees in this competitive employment environment, a business owner considering transitioning his/her/their company to the management team, or an executive integrating their benefits into their estate plan, all practitioners need to understand the options available, the best fit for the client situation, and the tax and legal implications for the client’s plan.  During this presentation, I will provide an overview of each strategy, the relevant tax, legal and accounting consequences, and the advantages and pitfalls you may encounter in your practice.\n \nAbout the Speaker\n \nKathleen W. Bilderback serves as Counsel at Sandberg, Phoenix, and von Gontard, a 200-attorney national law firm headquartered in St. Louis, Missouri. She concentrates her practice in the areas of Wealth Transfer Planning, Business Succession for closely held and family businesses, and Executive Benefits.  She is a frequent speaker on tax and legal topics to Estate Planning Councils and other professional organizations across the country.\n \nContinuing Education\n \nContinuing education credit is available at most webinars for Accredited Estate Planner® designees. In addition, a general certificate of completion will be made available for those professionals who feel the program satisfies their continuing education requirements and are able to self-file. It is the responsibility of the attendee to determine whether their state, discipline, or designation will allow one to self-file for a distance-learning program. Please contact [webinars@naepc.org](mailto:webinars@naepc.org?subject=Question%20With%20Regard%20to%20CE%20Policy%20for%20Webinars) prior to attending your first program if you have any questions with regard to the availabililty of credit. \n \nZoom Link\nhttps://us02web.zoom.us/j/82715775458?pwd=aUkxMTQwb3ZyYThuR2lFTlpxaWZNZz09\nMeeting ID: 827 1577 5458\n Passcode: 837533\n
SUMMARY:BEPC's NAEPC Webinar Viewing Party: Executive Benefits Strategies Every Estate Planner Must Know - Baltimore Estate Planning Council 
PRIORITY:3
BEGIN:VALARM
TRIGGER:PT18H
ACTION:DISPLAY
DESCRIPTION:Reminder
END:VALARM
END:VEVENT
END:VCALENDAR