BEGIN:VCALENDAR
PRODID:-//hacksw/handcal//NONSGML v1.0//EN
VERSION:2.0
METHOD:PUBLISH
BEGIN:VEVENT
DTSTART:20240109T170000Z
DTEND:20240109T180000Z
LOCATION:Zoom
UID:2541120240109T170000ZBEPC MD Tax Update Webinar via Zoom
DTSTAMP:20260425T175815Z
DESCRIPTION:\nJoin the Baltimore Estate Planning Council for a complimentary webinar highlighting the 2024 Maryland Tax Updates presented by Amanda Abel, Manager at the Maryland Estate Tax Unit.\n \nAmanda Abel is a lifelong Maryland resident, earned a Bachelors of Art in English from Robert Morris University, and has been a State of MD employee since 2007 working as an Assessor Manager in the Department of Assessment & Taxation from 2007 to 2019 and a Manager of Estate Tax and Non-resident Sales Tax for the Comptroller of Maryland from 2019 to present. \n \nThis event is specific for Baltimore and Howard County Council members and Emerging Planners please.\n \nZoom webinar link:\nhttps://us02web.zoom.us/j/88125107215?pwd=TFI4UUo0WElYclh0dGdpbng0N2J5Zz09\nWebinar ID: 881 2510 7215\n Passcode: 235791\n \n \n
SUMMARY:BEPC MD Tax Update Webinar via Zoom - Baltimore Estate Planning Council 
PRIORITY:3
BEGIN:VALARM
TRIGGER:PT18H
ACTION:DISPLAY
DESCRIPTION:Reminder
END:VALARM
END:VEVENT
END:VCALENDAR