BEGIN:VCALENDAR
PRODID:-//hacksw/handcal//NONSGML v1.0//EN
VERSION:2.0
METHOD:PUBLISH
BEGIN:VEVENT
DTSTART:20240221T220000Z
DTEND:20240222T000000Z
LOCATION:The Mt. Washington Tavern - 5700 Newbury Street, Baltimore, Maryland 21209
UID:2554820240221T220000ZBEPC Member Social
DTSTAMP:20260425T172914Z
DESCRIPTION:\nSponsored by: [Sessa & Dorsey](https://www.sessadorsey.com/)\n \nJoin the Baltimore Estate Planning Council on Wednesday, February 21, 2024 at the Mt. Washington Tavern. Members will have the opportunity to network while enjoying beverages and hors d'oeuvres in the Pimlico Room. \n \nPlease register in advance so that an accurate headcount can be provided.\n
SUMMARY:BEPC Member Social - Baltimore Estate Planning Council 
PRIORITY:3
BEGIN:VALARM
TRIGGER:PT18H
ACTION:DISPLAY
DESCRIPTION:Reminder
END:VALARM
END:VEVENT
END:VCALENDAR