BEGIN:VCALENDAR
PRODID:-//hacksw/handcal//NONSGML v1.0//EN
VERSION:2.0
METHOD:PUBLISH
BEGIN:VEVENT
DTSTART:20240502T200000Z
DTEND:20240502T220000Z
LOCATION:B.C. Brewery - 10950 Gilroy Rd Suite F, Hunt Valley, MD 21031
UID:2573420240502T200000ZBEPC Emerging Planners' Social & Panel Discussion
DTSTAMP:20260425T174938Z
DESCRIPTION:\n\nSponsored by: [MAM CPA, LLC](http://www.mamcpallc.com/)\n \nThe Baltimore Estate Planning Council is excited to host an Emerging Planners event on Thursday, May 2nd, 2024 from 4:00 - 6:00 PM at BC Brewery - we hope you will join us! The event will include a panel of Council members speaking about their experiences and the importance of “Building a Strong Professional Network”, and will provide plenty of time for networking while enjoying beverages and hors d'oeuvres.\n \n \n \nThe Emerging Planners program provides educational and networking opportunities to professionals in estate planning and related fields (including disciplines ranging from legal, accounting, investment, financial planning, insurance, philanthropic planning, valuation, etc.) with generally less than ten years of experience. The program provides opportunities to meet similarly-minded professionals and to learn about the Baltimore Estate Planning Council and how you can get involved with the Council moving forward.\n \n \n
SUMMARY:BEPC Emerging Planners' Social & Panel Discussion - Baltimore Estate Planning Council 
PRIORITY:3
BEGIN:VALARM
TRIGGER:PT18H
ACTION:DISPLAY
DESCRIPTION:Reminder
END:VALARM
END:VEVENT
END:VCALENDAR