BEGIN:VCALENDAR
PRODID:-//hacksw/handcal//NONSGML v1.0//EN
VERSION:2.0
METHOD:PUBLISH
BEGIN:VEVENT
DTSTART:20240917T220000Z
DTEND:20240918T013000Z
LOCATION:Oriole Park at Camden Yards - 333 W Camden St, Baltimore, MD 21201
UID:2621420240917T220000ZBEPC Social at Camden Yards - SOLD OUT!
DTSTAMP:20260425T175722Z
DESCRIPTION:\nMix and mingle with fellow Council Members while cheering on the Baltimore Orioles who will be hosting the San Francisco Giants on Tuesday, September 17th, 2024.\nFood and drinks included (menu below). The game starts at 6:35pm, doors open at 5:35pm.\n \nSponsored by [The Kroneberger Group](https://us.rbcwealthmanagement.com/kronebergergroup/)\n \n\nThis is a member event only please.\n
SUMMARY:BEPC Social at Camden Yards - SOLD OUT! - Baltimore Estate Planning Council 
PRIORITY:3
BEGIN:VALARM
TRIGGER:PT18H
ACTION:DISPLAY
DESCRIPTION:Reminder
END:VALARM
END:VEVENT
END:VCALENDAR