BEGIN:VCALENDAR
PRODID:-//hacksw/handcal//NONSGML v1.0//EN
VERSION:2.0
METHOD:PUBLISH
BEGIN:VEVENT
DTSTART:20241114T220000Z
DTEND:20241115T003000Z
LOCATION:Ryleigh's Oyster - 22 W Padonia Rd, Timonium, MD 21093
UID:2693520241114T220000ZBEPC Member Social
DTSTAMP:20260425T175640Z
DESCRIPTION:\n\nSponsored by: [First National Bank of PA](https://www.fnb-online.com/)\n \nJoin the Baltimore Estate Planning Council on Thursday, November 14, 2024 at Ryleigh's Oyster. Members will have the opportunity to network while enjoying beverages and hors d'oeuvres at the Sagamore Whiskey Bar.\n \nPlease register in advance so that an accurate headcount can be provided. This is a MEMBER ONLY event please.\n
SUMMARY:BEPC Member Social - Baltimore Estate Planning Council 
PRIORITY:3
BEGIN:VALARM
TRIGGER:PT18H
ACTION:DISPLAY
DESCRIPTION:Reminder
END:VALARM
END:VEVENT
END:VCALENDAR