BEGIN:VCALENDAR
PRODID:-//hacksw/handcal//NONSGML v1.0//EN
VERSION:2.0
METHOD:PUBLISH
BEGIN:VEVENT
DTSTART:20241113T200000Z
DTEND:20241113T210000Z
LOCATION:Zoom - please see link in event information
UID:2694020241113T200000ZBEPC's NAEPC Webinar Viewing Party: From Deductibles to Donut Holes: How to Decipher Your Medicare Choices
DTSTAMP:20260425T175641Z
DESCRIPTION:\nAbout the Program\n \nAs individuals approach the age of 65 and become eligible for Medicare, they are often confused about when to enroll and in addition, surprised and overwhelmed by the choices available to them. Options are plentiful and understanding the differences between Parts A, B, C, and D, and what each option covers, is important.\n\n Topics covered:\n Medicare costs What traditional Medicare does and does not cover The differences between Medicare Part A, B, C, D and Medicare Supplement (Medigap) Plans How open enrollment works Impact of The Inflation Reduction Act on prescription drug costs \nAbout the Speaker\n \nDianne Savastano is the Founder and Principal of Healthassist, a Massachusetts-based company founded in 2004 that specializes in helping clients navigate the complexities of the healthcare system. Beginning as a registered nurse providing direct patient care, Dianne’s 30-year career includes roles as a hospital, insurance, and employee benefits executive and as a management consultant. Her experience has taught her to ensure that the healthcare consumer is at the center of the healthcare equation. A frequent, sought-after speaker, Dianne has delivered programs covering a wide range of critical healthcare-related topics covering patient advocacy, Medicare choices, healthcare reform and more.\n \nContinuing Education\n \nContinuing education credit is available at most webinars for Accredited Estate Planner® designees. In addition, a general certificate of completion will be made available for those professionals who feel the program satisfies their continuing education requirements and are able to self-file. It is the responsibility of the attendee to determine whether their state, discipline, or designation will allow one to self-file for a distance-learning program. Please contact [webinars@naepc.org](mailto:webinars@naepc.org?subject=Question%20With%20Regard%20to%20CE%20Policy%20for%20Webinars) prior to attending your first program if you have any questions with regard to the availabililty of credit. \n \nZoom Link\nhttps://us02web.zoom.us/j/82715775458?pwd=aUkxMTQwb3ZyYThuR2lFTlpxaWZNZz09\nMeeting ID: 827 1577 5458\n Passcode: 837533\n
SUMMARY:BEPC's NAEPC Webinar Viewing Party: From Deductibles to Donut Holes: How to Decipher Your Medicare Choices - Baltimore Estate Planning Council 
PRIORITY:3
BEGIN:VALARM
TRIGGER:PT18H
ACTION:DISPLAY
DESCRIPTION:Reminder
END:VALARM
END:VEVENT
END:VCALENDAR