BEGIN:VCALENDAR
PRODID:-//hacksw/handcal//NONSGML v1.0//EN
VERSION:2.0
METHOD:PUBLISH
BEGIN:VEVENT
DTSTART:20250429T160000Z
DTEND:20250429T170000Z
LOCATION:Zoom
UID:2734420250429T160000ZBEPC MD Legislative Update Webinar via Zoom
DTSTAMP:20260425T175815Z
DESCRIPTION:\n\nJoin the Baltimore Estate Planning Council for a complimentary webinar highlighting the 2025 Maryland Legislative Updates presented by Laura Thomas of Legacy Legal Planning, LLC.\n \nThis event is specific for Baltimore Council and Emerging Planner members please.\n \n* There is not any continuing education credits associated with the program.\n\nZoom Link:\nhttps://us02web.zoom.us/j/86104730970?pwd=DLb8js4PvQJFpcpprm5oTQpIJEIHLH.1\nMeeting ID: 861 0473 0970\n Passcode: 985115\n
SUMMARY:BEPC MD Legislative Update Webinar via Zoom - Baltimore Estate Planning Council 
PRIORITY:3
BEGIN:VALARM
TRIGGER:PT18H
ACTION:DISPLAY
DESCRIPTION:Reminder
END:VALARM
END:VEVENT
END:VCALENDAR