BEGIN:VCALENDAR
PRODID:-//hacksw/handcal//NONSGML v1.0//EN
VERSION:2.0
METHOD:PUBLISH
BEGIN:VEVENT
DTSTART:20250501T200000Z
DTEND:20250501T220000Z
LOCATION:RSM US - 100 International Dr, Suite 400, Baltimore MD 21202
UID:2746820250501T200000ZBEPC Emerging Planners' Networking Social
DTSTAMP:20260425T175050Z
DESCRIPTION:\nJoin the Baltimore Estate Planning Council Emerging Planners on Thursday, May 1, 2025 for a fun evening of socializing and networking. Please register in advance, so that an accurate headcount can be provided for catering. Look forward to seeing you there!\n \nParking Info:\n \nWe have monitored underground parking available twenty-four hours a day with two entrances, one on the Four Seasons Hotel side and the other on President Street behind the building beside Under Armor. Please pay for your parking before leaving your vehicle and entering the building.\n
SUMMARY:BEPC Emerging Planners' Networking Social - Baltimore Estate Planning Council 
PRIORITY:3
BEGIN:VALARM
TRIGGER:PT18H
ACTION:DISPLAY
DESCRIPTION:Reminder
END:VALARM
END:VEVENT
END:VCALENDAR