BEGIN:VCALENDAR
PRODID:-//hacksw/handcal//NONSGML v1.0//EN
VERSION:2.0
METHOD:PUBLISH
BEGIN:VEVENT
DTSTART:20250605T200000Z
DTEND:20250605T230000Z
LOCATION:Hayfields Country Club - 700 Hayfields Rd, Cockeysville, MD 21030
UID:2751820250605T200000ZBEPC Annual Meeting
DTSTAMP:20260425T175936Z
DESCRIPTION:\nJoin the Baltimore Estate Planning Council for an celebratory reception as the 2024 - 2025 Council year comes to an end and the proposed 2025 - 2026 Slate of Board Candidates are presented for election.\n\nSponsored by [ClearPlan Wealth Management](https://www.raymondjames.com/clearplanwm/)\n\nAgenda\n 4:00pm - Networking\n 4:30pm - Annual Meeting (Board of Directors Slate)\n 5:00pm - Speaker Presentation - Brain Wellness\n 5:30pm - Cocktail Reception\n \nSpeaker Bio\n \nDr. David Ajibade is the founder and medical director of Brain and Body Solutions, Ltd., and Executive Director of Brain and Body Foundation LLC, focused on promoting and restoring brain health. He advocates for the use of targeted nutrients and nutraceuticals in addition to standard protocols in treating brain disorders like epilepsy, dementia, Parkinson’s disease and cerebral palsy.”\n \nSince 2013, he has treated thousands of patients, achieving remarkable outcomes in mental and physical health. Dr. Ajibade has earned multiple national awards including recognition in Baltimore Magazine’s 2024 Game Changers Edition.  \n \nBoard of Directors Slate\n Baltimore Estate Planning Council Nominations for Officers and Board Members for 2025/2026       Officers Michael Mandish CPA President Sean Kelly FA President-Elect Elizabeth Green ATY Vice President Jacqueline Yahr PP Secretary Patrick Guthrie VAL Treasurer Tina Lignos ATY Immediate Past President       Directors 1 Year Term - remaining     Marcus Aiello FA Thru 6/30/2026 Norris Brodsky FA Thru 6/30/2026 Susan Mitcheltree FA Thru 6/30/2026 Scott Tate ATY Thru 6/30/2026 Alice Young ATY Thru 6/30/2026       2 Year Term - remaining     Aquanetta Betts PP Thru 6/30/2027 Christine Buckley FA Thru 6/30/2027 Shari Fleming ATY Thru 6/30/2027 Andrew Hahn FA Thru 6/30/2027 Joe Musumeci CPA Thru 6/30/2027 Max Reamer FA Thru 6/30/2027 Christina Snyder FA Thru 6/30/2027       3 Year Term - remaining     Randy Harris FA Thru 6/30/2028 Abby Holmes VAL Thru 6/30/2028 Maria Sobus TM Thru 6/30/2028 \n \n
SUMMARY:BEPC Annual Meeting - Baltimore Estate Planning Council 
PRIORITY:3
BEGIN:VALARM
TRIGGER:PT18H
ACTION:DISPLAY
DESCRIPTION:Reminder
END:VALARM
END:VEVENT
END:VCALENDAR