BEGIN:VCALENDAR
PRODID:-//hacksw/handcal//NONSGML v1.0//EN
VERSION:2.0
METHOD:PUBLISH
BEGIN:VEVENT
DTSTART:20250826T220000Z
DTEND:20250827T013000Z
LOCATION:Oriole Park at Camden Yards - 333 W Camden St, Baltimore, MD 21201
UID:2817620250826T220000ZBEPC Social at Camden Yards
DTSTAMP:20260425T175050Z
DESCRIPTION:\nMix and mingle with fellow Council Members while cheering on the Baltimore Orioles who will be hosting the Boston Red Sox on Tuesday, August 26th, 2025.\nFood and drinks included (menu below). The game starts at 6:35pm, doors open at 5:35pm.\n \nSponsored by [The Kroneberger Group](https://us.rbcwealthmanagement.com/kronebergergroup/)\n \nThe menu includes...\n \nPeanuts\n \nPopcorn\n \nPretzels\n \nNacho Bar\n \nGarden and Seasonal Salad\n \nHot Dogs and Sausages\n \nPulled Pork BBQ \n \nFresh Cut Fruit\n \nSweet Selctions\n \nAssorted Soft Drinks and Water\n
SUMMARY:BEPC Social at Camden Yards - Baltimore Estate Planning Council 
PRIORITY:3
BEGIN:VALARM
TRIGGER:PT18H
ACTION:DISPLAY
DESCRIPTION:Reminder
END:VALARM
END:VEVENT
END:VCALENDAR