BEGIN:VCALENDAR
PRODID:-//hacksw/handcal//NONSGML v1.0//EN
VERSION:2.0
METHOD:PUBLISH
BEGIN:VEVENT
DTSTART:20260226T120000Z
DTEND:20260226T190000Z
LOCATION:Baltimore Country Club - Roland Park: 4712 Club Rd, Baltimore, MD 21210
UID:2832520260226T120000ZBEPC Education Program: “Economic Update”
DTSTAMP:20260425T175526Z
DESCRIPTION:\nSponsored by [Maller Wealth Advisors](https://www.mallerwealthadvisors.com/)\n \nAGENDA\n07:00 - 08:00 Breakfast and Networking\n 08:00 - 09:00 Program\n \nDetails to Follow!\n \nABOUT THE SPEAKER: Anirban Basu is Chairman & CEO of Sage Policy Group, Inc., a Baltimore-based economic and policy consultancy he founded in 2004. He serves the Chief Economist function for many organizations, including the Maryland Bankers Association and Associated Builders and Contractors.  The Baltimore Business Journal named him one of the region’s 20 most powerful business leaders in 2010. In 2022, he entered the Daily Record newspaper’s Circle of Influence. He is the Distinguished Economist in Residence at Goucher College, where he teaches History of Economic Thought. He holds four graduate degrees, including a J.D. and a Ph.D.\n \nTwo Meeting Requirement: To maintain membership in the Baltimore Estate Planning Council, active members are required to attend at least two (2) IN-PERSON educational meetings annually.\n \nCancellation Policy: Reservations must be canceled in writing or by e-mail and received no later than Friday, February 20, 2026. If you would like a name tag, please register by Friday, February 20, 2026.\n \nAttendees may be photographed during the event, and these images may be used in future Council promotional or marketing materials.\n
SUMMARY:BEPC Education Program: “Economic Update” - Baltimore Estate Planning Council 
PRIORITY:3
BEGIN:VALARM
TRIGGER:PT18H
ACTION:DISPLAY
DESCRIPTION:Reminder
END:VALARM
END:VEVENT
END:VCALENDAR