BEGIN:VCALENDAR
PRODID:-//hacksw/handcal//NONSGML v1.0//EN
VERSION:2.0
METHOD:PUBLISH
BEGIN:VEVENT
DTSTART:20260513T110000Z
DTEND:20260513T140000Z
LOCATION:Baltimore Country Club - 4712 Club Rd, Baltimore, MD 21210
UID:2832620260513T110000ZBEPC Education Program: “Succession Planning”
DTSTAMP:20260425T134735Z
DESCRIPTION:\n \nProgram Information: Transition by Design: Successful Succession of the Privately Held Business and Wealth\n \nDescription: All privately-held businesses will transition at some point – either by design or by default. This presentation identifies the key drivers that underlie business dynamics and family dynamics and illustrates a three-pronged approach to designing an integrated business succession plan to align the goals and objectives of the business and the family. We will discuss some of the current changes in the tax law, and strategic opportunities and pre-transaction planning steps to consider in order to optimize the chosen path.\n \nSpeaker Bio: Susan P. Rounds, JD, CPA, LLM, TEP, AEP® (Distinguished) and Head US Wealth Planning, Deutsche Bank Wealth Management works with ultra-high net-worth clients and their families on matters of tax and estate planning, business succession, risk management, philanthropy, family governance and legacy. She is a frequent writer and lecturer on these topics, including teaching at the University of Georgia School of Law and Terry College of Business, the Becker CPA Review Course, and the NYU Summer Institute on Taxation. Susan was inducted into the NAEPC Estate Planning Hall of Fame in November 2022.\n \nSponsored by PNC Private Bank.\n \nAGENDA\n 07:00 - 08:00 Breakfast and Networking\n 08:00 - 10:00 Program\n \nTwo Meeting Requirement: To maintain membership in the Baltimore Estate Planning Council, active members are required to attend at least two (2) IN-PERSON educational meetings annually.\n \nCancellation Policy: Reservations must be canceled in writing or by e-mail and received no later than Friday, May 1, 2026. If you would like a name tag, please register by Friday, May 1, 2026.\n \nAttendees may be photographed during the event, and these images may be used in future Council promotional or marketing materials.\n
SUMMARY:BEPC Education Program: “Succession Planning” - Baltimore Estate Planning Council 
PRIORITY:3
BEGIN:VALARM
TRIGGER:PT18H
ACTION:DISPLAY
DESCRIPTION:Reminder
END:VALARM
END:VEVENT
END:VCALENDAR