BEGIN:VCALENDAR
PRODID:-//hacksw/handcal//NONSGML v1.0//EN
VERSION:2.0
METHOD:PUBLISH
BEGIN:VEVENT
DTSTART:20251119T220000Z
DTEND:20251120T003000Z
LOCATION:Mother's North Grille - 2450 Broad Avenue, Timonium, MD 21093
UID:2877620251119T220000ZBEPC Member Social
DTSTAMP:20260425T175936Z
DESCRIPTION:\n\nSponsored by: [First National Bank of PA](https://www.fnb-online.com/)\n \nJoin the Baltimore Estate Planning Council on Wednesday, November 19, 2025 at Mother's North Grille. Members will have the opportunity to network while enjoying beverages and hors d'oeuvres.\n \nPlease register in advance so that an accurate headcount can be provided. This is a MEMBER ONLY event please.\n \n \n
SUMMARY:BEPC Member Social - Baltimore Estate Planning Council 
PRIORITY:3
BEGIN:VALARM
TRIGGER:PT18H
ACTION:DISPLAY
DESCRIPTION:Reminder
END:VALARM
END:VEVENT
END:VCALENDAR