BEGIN:VCALENDAR
PRODID:-//hacksw/handcal//NONSGML v1.0//EN
VERSION:2.0
METHOD:PUBLISH
BEGIN:VEVENT
DTSTART:20260113T140000Z
DTEND:20260113T153000Z
LOCATION:RSM US - 100 International Dr, Suite 400, Baltimore MD 21202
UID:2883420260113T140000ZBEPC Emerging Planners' Networking Social
DTSTAMP:20260425T175827Z
DESCRIPTION:\nJoin fellow Emerging Planners for Coffee, Conversations, and Career Lessons on January 13, 2026. This lively breakfast discussion will feature a panel of BEPC members sharing their experiences, insights, and what they wish they’d known when starting out in estate planning. It’s a wonderful chance to connect with peers and seasoned professionals over breakfast.\n \nPlease register in advance, so that an accurate headcount can be provided for catering. Look forward to seeing you there!\n \n \n \nParking Info:\n \nWe have monitored underground parking available twenty-four hours a day with two entrances, one on the Four Seasons Hotel side and the other on President Street behind the building beside Under Armor. Please pay for your parking before leaving your vehicle and entering the building.\n \n\n \nAll hourly/daily parkers must start a parking session within 15 minutes of entering the garage. There are many different options for starting a parking\n \nsession (the Premium Parking App, CameraPay, TextPay, website, pay machine, or by calling their customer service center), but the quickest way is\n \nby using CameraPay. We recommend downloading the Premium Parking App as it is used across the city and along the East Coast.\n \nStarting a session with Camera Pay\n Scan the QR code on signs throughout the facility Enter your license plate number and state, then select “Continue” Select the duration of your stay Use your credit card to pay Select “Continue” to start your session      \n \n \n \n \n \n \n \n \n \n \nIf you are signed in or entered your phone number, you will automatically receive a receipt. If\n \nyou checked out as a guest, you can select “Would you like a receipt?” to receive an email receipt.\n \nENFORCEMENT\n \nAll vehicles must be credentialed with 15 minutes of entering the garage. Failure to do so may result\n \nin a warning, invoice, or immobilization. Every invoice has an option to submit an appeal if you believe\n \nit was issued unjustly or in error.\n \nPlease do not hesitate to contact our 24/7 customer service center by phone at (844) 234-2011 or by\n \nemail at support@premiumparking.com\n \nAttendees may be photographed during the event, and these images may be used in future Council promotional or marketing materials.\n
SUMMARY:BEPC Emerging Planners' Networking Social - Baltimore Estate Planning Council 
PRIORITY:3
BEGIN:VALARM
TRIGGER:PT18H
ACTION:DISPLAY
DESCRIPTION:Reminder
END:VALARM
END:VEVENT
END:VCALENDAR