BEGIN:VCALENDAR
PRODID:-//hacksw/handcal//NONSGML v1.0//EN
VERSION:2.0
METHOD:PUBLISH
BEGIN:VEVENT
DTSTART:20260630T120000Z
DTEND:20260630T123000Z
LOCATION:
UID:2889520260630T120000ZBEPC Education Program
DTSTAMP:20260425T161551Z
DESCRIPTION:\nThis is for the purpose of collecting fees from non-registered guests. \n
SUMMARY:BEPC Education Program - Baltimore Estate Planning Council 
PRIORITY:3
BEGIN:VALARM
TRIGGER:PT18H
ACTION:DISPLAY
DESCRIPTION:Reminder
END:VALARM
END:VEVENT
END:VCALENDAR